BEGIN:VCALENDAR
VERSION:2.0
PRODID:-//NetAuktion//NONSGML NetAuktion//SV
METHOD:PUBLISH
BEGIN:VEVENT
UID:20260421T102706-604135078-netauktion.se
DTSTAMP:20260421T102706
DTSTART:20110622T023300
DTEND:20110622T023600
SUMMARY:Netauktion objekt 0743-363 Auktionspåminnelse
DESCRIPTION:Länk till objektet du var intresserad av: https://staging.netauktion.se/auktion/produkt/160-slipsar
END:VEVENT
END:VCALENDAR
