BEGIN:VCALENDAR
VERSION:2.0
PRODID:-//NetAuktion//NONSGML NetAuktion//SV
METHOD:PUBLISH
BEGIN:VEVENT
UID:20260425T134251-2084546751-netauktion.se
DTSTAMP:20260425T134251
DTSTART:20090514T021100
DTEND:20090514T021400
SUMMARY:Netauktion objekt 0169-010 Auktionspåminnelse
DESCRIPTION:Länk till objektet du var intresserad av: https://staging.netauktion.se/auktion/produkt/sammetsgalgar
END:VEVENT
END:VCALENDAR
