BEGIN:VCALENDAR
VERSION:2.0
PRODID:-//NetAuktion//NONSGML NetAuktion//SV
METHOD:PUBLISH
BEGIN:VEVENT
UID:20260421T102934-1162157289-netauktion.se
DTSTAMP:20260421T102934
DTSTART:20110630T034300
DTEND:20110630T034600
SUMMARY:Netauktion objekt 0793-112 Auktionspåminnelse
DESCRIPTION:Länk till objektet du var intresserad av: https://staging.netauktion.se/auktion/produkt/damklader-6
END:VEVENT
END:VCALENDAR
