BEGIN:VCALENDAR
VERSION:2.0
PRODID:-//NetAuktion//NONSGML NetAuktion//SV
METHOD:PUBLISH
BEGIN:VEVENT
UID:20260421T104359-467348621-netauktion.se
DTSTAMP:20260421T104359
DTSTART:20110630T032700
DTEND:20110630T033000
SUMMARY:Netauktion objekt 0793-120 Auktionspåminnelse
DESCRIPTION:Länk till objektet du var intresserad av: https://staging.netauktion.se/auktion/produkt/blandade-halsdukar
END:VEVENT
END:VCALENDAR
