BEGIN:VCALENDAR
VERSION:2.0
PRODID:-//NetAuktion//NONSGML NetAuktion//SV
METHOD:PUBLISH
BEGIN:VEVENT
UID:20260421T104622-1320227947-netauktion.se
DTSTAMP:20260421T104622
DTSTART:20110630T033200
DTEND:20110630T033500
SUMMARY:Netauktion objekt 0793-124 Auktionspåminnelse
DESCRIPTION:Länk till objektet du var intresserad av: https://staging.netauktion.se/auktion/produkt/skjortor-mm
END:VEVENT
END:VCALENDAR
