BEGIN:VCALENDAR
VERSION:2.0
PRODID:-//NetAuktion//NONSGML NetAuktion//SV
METHOD:PUBLISH
BEGIN:VEVENT
UID:20260421T102935-1026222590-netauktion.se
DTSTAMP:20260421T102935
DTSTART:20110629T021500
DTEND:20110629T021800
SUMMARY:Netauktion objekt 0898-009 Auktionspåminnelse
DESCRIPTION:Länk till objektet du var intresserad av: https://staging.netauktion.se/auktion/produkt/pro-formance-senior-care-2
END:VEVENT
END:VCALENDAR
