BEGIN:VCALENDAR
VERSION:2.0
PRODID:-//NetAuktion//NONSGML NetAuktion//SV
METHOD:PUBLISH
BEGIN:VEVENT
UID:20260421T104356-1518646532-netauktion.se
DTSTAMP:20260421T104356
DTSTART:20130430T011000
DTEND:20130430T011300
SUMMARY:Netauktion objekt 0887-012 Auktionspåminnelse
DESCRIPTION:Länk till objektet du var intresserad av: https://staging.netauktion.se/auktion/produkt/3-st-tavlor-olja-och-blyerts
END:VEVENT
END:VCALENDAR
