BEGIN:VCALENDAR
VERSION:2.0
PRODID:-//NetAuktion//NONSGML NetAuktion//SV
METHOD:PUBLISH
BEGIN:VEVENT
UID:20260421T104453-1651283665-netauktion.se
DTSTAMP:20260421T104453
DTSTART:20130430T011300
DTEND:20130430T011600
SUMMARY:Netauktion objekt 0887-016 Auktionspåminnelse
DESCRIPTION:Länk till objektet du var intresserad av: https://staging.netauktion.se/auktion/produkt/4-st-tavlor-blyerts-akvarell-och-olja
END:VEVENT
END:VCALENDAR
