BEGIN:VCALENDAR
VERSION:2.0
PRODID:-//NetAuktion//NONSGML NetAuktion//SV
METHOD:PUBLISH
BEGIN:VEVENT
UID:20260421T104307-949413419-netauktion.se
DTSTAMP:20260421T104307
DTSTART:20111230T012300
DTEND:20111230T012600
SUMMARY:Netauktion objekt 0844-002 Auktionspåminnelse
DESCRIPTION:Länk till objektet du var intresserad av: https://staging.netauktion.se/auktion/produkt/3st-spikmattor-3
END:VEVENT
END:VCALENDAR
