BEGIN:VCALENDAR
VERSION:2.0
PRODID:-//NetAuktion//NONSGML NetAuktion//SV
METHOD:PUBLISH
BEGIN:VEVENT
UID:20260421T102707-1277144648-netauktion.se
DTSTAMP:20260421T102707
DTSTART:20110714T022500
DTEND:20110714T022800
SUMMARY:Netauktion objekt 0743-384 Auktionspåminnelse
DESCRIPTION:Länk till objektet du var intresserad av: https://staging.netauktion.se/auktion/produkt/150-armbandsklockor
END:VEVENT
END:VCALENDAR
