BEGIN:VCALENDAR
VERSION:2.0
PRODID:-//NetAuktion//NONSGML NetAuktion//SV
METHOD:PUBLISH
BEGIN:VEVENT
UID:20260421T104446-1795657903-netauktion.se
DTSTAMP:20260421T104446
DTSTART:20110718T020100
DTEND:20110718T020400
SUMMARY:Netauktion objekt 0906-003 Auktionspåminnelse
DESCRIPTION:Länk till objektet du var intresserad av: https://staging.netauktion.se/auktion/produkt/datorpaket-3-4
END:VEVENT
END:VCALENDAR
