BEGIN:VCALENDAR
VERSION:2.0
PRODID:-//NetAuktion//NONSGML NetAuktion//SV
METHOD:PUBLISH
BEGIN:VEVENT
UID:20260421T104451-456451635-netauktion.se
DTSTAMP:20260421T104451
DTSTART:20110718T020300
DTEND:20110718T020600
SUMMARY:Netauktion objekt 0906-005 Auktionspåminnelse
DESCRIPTION:Länk till objektet du var intresserad av: https://staging.netauktion.se/auktion/produkt/datorpaket-5-3
END:VEVENT
END:VCALENDAR
