BEGIN:VCALENDAR
VERSION:2.0
PRODID:-//NetAuktion//NONSGML NetAuktion//SV
METHOD:PUBLISH
BEGIN:VEVENT
UID:20260421T104426-1618410512-netauktion.se
DTSTAMP:20260421T104426
DTSTART:20110718T020400
DTEND:20110718T020700
SUMMARY:Netauktion objekt 0906-006 Auktionspåminnelse
DESCRIPTION:Länk till objektet du var intresserad av: https://staging.netauktion.se/auktion/produkt/datorpaket-6-3
END:VEVENT
END:VCALENDAR
