BEGIN:VCALENDAR
VERSION:2.0
PRODID:-//NetAuktion//NONSGML NetAuktion//SV
METHOD:PUBLISH
BEGIN:VEVENT
UID:20260421T102834-1220235684-netauktion.se
DTSTAMP:20260421T102834
DTSTART:20110718T020700
DTEND:20110718T021000
SUMMARY:Netauktion objekt 0906-009 Auktionspåminnelse
DESCRIPTION:Länk till objektet du var intresserad av: https://staging.netauktion.se/auktion/produkt/3-skrivbord-med-arbetsstol
END:VEVENT
END:VCALENDAR
