BEGIN:VCALENDAR
VERSION:2.0
PRODID:-//NetAuktion//NONSGML NetAuktion//SV
METHOD:PUBLISH
BEGIN:VEVENT
UID:20260421T102835-399920081-netauktion.se
DTSTAMP:20260421T102835
DTSTART:20110718T020900
DTEND:20110718T021200
SUMMARY:Netauktion objekt 0906-011 Auktionspåminnelse
DESCRIPTION:Länk till objektet du var intresserad av: https://staging.netauktion.se/auktion/produkt/skinnsoffa-mm
END:VEVENT
END:VCALENDAR
