BEGIN:VCALENDAR
VERSION:2.0
PRODID:-//NetAuktion//NONSGML NetAuktion//SV
METHOD:PUBLISH
BEGIN:VEVENT
UID:20260421T104431-473589641-netauktion.se
DTSTAMP:20260421T104431
DTSTART:20111031T015000
DTEND:20111031T015300
SUMMARY:Netauktion objekt 0788-002 Auktionspåminnelse
DESCRIPTION:Länk till objektet du var intresserad av: https://staging.netauktion.se/auktion/produkt/matgrupp-och-soffbord-furu
END:VEVENT
END:VCALENDAR
