BEGIN:VCALENDAR
VERSION:2.0
PRODID:-//NetAuktion//NONSGML NetAuktion//SV
METHOD:PUBLISH
BEGIN:VEVENT
UID:20260425T134701-1626041966-netauktion.se
DTSTAMP:20260425T134701
DTSTART:20110914T015700
DTEND:20110914T020000
SUMMARY:Netauktion objekt 0894-008 Auktionspåminnelse
DESCRIPTION:Länk till objektet du var intresserad av: https://staging.netauktion.se/auktion/produkt/sittgrupp-troligen-edsbyn
END:VEVENT
END:VCALENDAR
