BEGIN:VCALENDAR
VERSION:2.0
PRODID:-//NetAuktion//NONSGML NetAuktion//SV
METHOD:PUBLISH
BEGIN:VEVENT
UID:20260421T103006-1997427568-netauktion.se
DTSTAMP:20260421T103006
DTSTART:20110919T015300
DTEND:20110919T015600
SUMMARY:Netauktion objekt 0914-001 Auktionspåminnelse
DESCRIPTION:Länk till objektet du var intresserad av: https://staging.netauktion.se/auktion/produkt/vagn-2-axlad-goteborg
END:VEVENT
END:VCALENDAR
