BEGIN:VCALENDAR
VERSION:2.0
PRODID:-//NetAuktion//NONSGML NetAuktion//SV
METHOD:PUBLISH
BEGIN:VEVENT
UID:20260425T122256-1096670538-netauktion.se
DTSTAMP:20260425T122256
DTSTART:20090521T013600
DTEND:20090521T013900
SUMMARY:Netauktion objekt 0183-103 Auktionspåminnelse
DESCRIPTION:Länk till objektet du var intresserad av: https://staging.netauktion.se/auktion/produkt/pall-med-vaggfarg-tikkurila-ca-400liter
END:VEVENT
END:VCALENDAR
