BEGIN:VCALENDAR
VERSION:2.0
PRODID:-//NetAuktion//NONSGML NetAuktion//SV
METHOD:PUBLISH
BEGIN:VEVENT
UID:20260421T102747-1636124208-netauktion.se
DTSTAMP:20260421T102747
DTSTART:20110914T055700
DTEND:20110914T060000
SUMMARY:Netauktion objekt 0843-134 Auktionspåminnelse
DESCRIPTION:Länk till objektet du var intresserad av: https://staging.netauktion.se/auktion/produkt/diverse-elkomponenter-i-skap
END:VEVENT
END:VCALENDAR
