BEGIN:VCALENDAR
VERSION:2.0
PRODID:-//NetAuktion//NONSGML NetAuktion//SV
METHOD:PUBLISH
BEGIN:VEVENT
UID:20260421T102642-942028080-netauktion.se
DTSTAMP:20260421T102642
DTSTART:20090227T013300
DTEND:20090227T013600
SUMMARY:Netauktion objekt 0193-018 Auktionspåminnelse
DESCRIPTION:Länk till objektet du var intresserad av: https://staging.netauktion.se/auktion/produkt/bordtidningshylla-rom
END:VEVENT
END:VCALENDAR
