BEGIN:VCALENDAR
VERSION:2.0
PRODID:-//NetAuktion//NONSGML NetAuktion//SV
METHOD:PUBLISH
BEGIN:VEVENT
UID:20260425T123612-336337821-netauktion.se
DTSTAMP:20260425T123612
DTSTART:20110914T020300
DTEND:20110914T020600
SUMMARY:Netauktion objekt 0894-022 Auktionspåminnelse
DESCRIPTION:Länk till objektet du var intresserad av: https://staging.netauktion.se/auktion/produkt/barstolar-fran-bla-station-3-st
END:VEVENT
END:VCALENDAR
