BEGIN:VCALENDAR
VERSION:2.0
PRODID:-//NetAuktion//NONSGML NetAuktion//SV
METHOD:PUBLISH
BEGIN:VEVENT
UID:20260421T102707-229455976-netauktion.se
DTSTAMP:20260421T102707
DTSTART:20110926T012200
DTEND:20110926T012500
SUMMARY:Netauktion objekt 0940-013 Auktionspåminnelse
DESCRIPTION:Länk till objektet du var intresserad av: https://staging.netauktion.se/auktion/produkt/lader-halsband-och-armband
END:VEVENT
END:VCALENDAR
