BEGIN:VCALENDAR
VERSION:2.0
PRODID:-//NetAuktion//NONSGML NetAuktion//SV
METHOD:PUBLISH
BEGIN:VEVENT
UID:20260421T104446-655886353-netauktion.se
DTSTAMP:20260421T104446
DTSTART:20110926T012800
DTEND:20110926T013100
SUMMARY:Netauktion objekt 0940-019 Auktionspåminnelse
DESCRIPTION:Länk till objektet du var intresserad av: https://staging.netauktion.se/auktion/produkt/vacker-klocka-med-lock-2
END:VEVENT
END:VCALENDAR
