BEGIN:VCALENDAR
VERSION:2.0
PRODID:-//NetAuktion//NONSGML NetAuktion//SV
METHOD:PUBLISH
BEGIN:VEVENT
UID:20260425T123458-637253058-netauktion.se
DTSTAMP:20260425T123458
DTSTART:20110909T013100
DTEND:20110909T013400
SUMMARY:Netauktion objekt 0809-137 Auktionspåminnelse
DESCRIPTION:Länk till objektet du var intresserad av: https://staging.netauktion.se/auktion/produkt/bildskarmspaket-och-tangentbord-med-mus
END:VEVENT
END:VCALENDAR
