BEGIN:VCALENDAR
VERSION:2.0
PRODID:-//NetAuktion//NONSGML NetAuktion//SV
METHOD:PUBLISH
BEGIN:VEVENT
UID:20260425T123612-720559976-netauktion.se
DTSTAMP:20260425T123612
DTSTART:20110909T013500
DTEND:20110909T013800
SUMMARY:Netauktion objekt 0809-139 Auktionspåminnelse
DESCRIPTION:Länk till objektet du var intresserad av: https://staging.netauktion.se/auktion/produkt/multifunktionsskrivare-fotoskrivare
END:VEVENT
END:VCALENDAR
