BEGIN:VCALENDAR
VERSION:2.0
PRODID:-//NetAuktion//NONSGML NetAuktion//SV
METHOD:PUBLISH
BEGIN:VEVENT
UID:20260425T134700-1966966564-netauktion.se
DTSTAMP:20260425T134700
DTSTART:20110909T013700
DTEND:20110909T014000
SUMMARY:Netauktion objekt 0809-141 Auktionspåminnelse
DESCRIPTION:Länk till objektet du var intresserad av: https://staging.netauktion.se/auktion/produkt/fotolampor-fallbart-bord-och-litet-bord-med-hjul
END:VEVENT
END:VCALENDAR
