BEGIN:VCALENDAR
VERSION:2.0
PRODID:-//NetAuktion//NONSGML NetAuktion//SV
METHOD:PUBLISH
BEGIN:VEVENT
UID:20260425T135428-909857339-netauktion.se
DTSTAMP:20260425T135428
DTSTART:20110909T014100
DTEND:20110909T014400
SUMMARY:Netauktion objekt 0809-142 Auktionspåminnelse
DESCRIPTION:Länk till objektet du var intresserad av: https://staging.netauktion.se/auktion/produkt/laminatmaskin-och-diaprojektor-mm
END:VEVENT
END:VCALENDAR
