BEGIN:VCALENDAR
VERSION:2.0
PRODID:-//NetAuktion//NONSGML NetAuktion//SV
METHOD:PUBLISH
BEGIN:VEVENT
UID:20260425T134726-485361966-netauktion.se
DTSTAMP:20260425T134726
DTSTART:20110909T014700
DTEND:20110909T015000
SUMMARY:Netauktion objekt 0809-146 Auktionspåminnelse
DESCRIPTION:Länk till objektet du var intresserad av: https://staging.netauktion.se/auktion/produkt/kinnarps-kontor-gra
END:VEVENT
END:VCALENDAR
