BEGIN:VCALENDAR
VERSION:2.0
PRODID:-//NetAuktion//NONSGML NetAuktion//SV
METHOD:PUBLISH
BEGIN:VEVENT
UID:20260425T123557-773717461-netauktion.se
DTSTAMP:20260425T123557
DTSTART:20110909T020900
DTEND:20110909T021200
SUMMARY:Netauktion objekt 0809-157 Auktionspåminnelse
DESCRIPTION:Länk till objektet du var intresserad av: https://staging.netauktion.se/auktion/produkt/programvaror-antivirus-office-mm
END:VEVENT
END:VCALENDAR
