BEGIN:VCALENDAR
VERSION:2.0
PRODID:-//NetAuktion//NONSGML NetAuktion//SV
METHOD:PUBLISH
BEGIN:VEVENT
UID:20260425T123557-783224320-netauktion.se
DTSTAMP:20260425T123557
DTSTART:20110909T021900
DTEND:20110909T022200
SUMMARY:Netauktion objekt 0809-162 Auktionspåminnelse
DESCRIPTION:Länk till objektet du var intresserad av: https://staging.netauktion.se/auktion/produkt/mobiltelefoner-m-tillbehor
END:VEVENT
END:VCALENDAR
