BEGIN:VCALENDAR
VERSION:2.0
PRODID:-//NetAuktion//NONSGML NetAuktion//SV
METHOD:PUBLISH
BEGIN:VEVENT
UID:20260425T134659-43391716-netauktion.se
DTSTAMP:20260425T134659
DTSTART:20110909T023500
DTEND:20110909T023800
SUMMARY:Netauktion objekt 0809-170 Auktionspåminnelse
DESCRIPTION:Länk till objektet du var intresserad av: https://staging.netauktion.se/auktion/produkt/3-datorer-fran-fujitsu-siemens
END:VEVENT
END:VCALENDAR
