BEGIN:VCALENDAR
VERSION:2.0
PRODID:-//NetAuktion//NONSGML NetAuktion//SV
METHOD:PUBLISH
BEGIN:VEVENT
UID:20260425T134725-1465161010-netauktion.se
DTSTAMP:20260425T134725
DTSTART:20110909T023700
DTEND:20110909T024000
SUMMARY:Netauktion objekt 0809-171 Auktionspåminnelse
DESCRIPTION:Länk till objektet du var intresserad av: https://staging.netauktion.se/auktion/produkt/tva-stationara-och-1-barbar-dator
END:VEVENT
END:VCALENDAR
