BEGIN:VCALENDAR
VERSION:2.0
PRODID:-//NetAuktion//NONSGML NetAuktion//SV
METHOD:PUBLISH
BEGIN:VEVENT
UID:20260425T123556-685359078-netauktion.se
DTSTAMP:20260425T123556
DTSTART:20110909T031300
DTEND:20110909T031600
SUMMARY:Netauktion objekt 0809-189 Auktionspåminnelse
DESCRIPTION:Länk till objektet du var intresserad av: https://staging.netauktion.se/auktion/produkt/verktygslada-luna-med-nya-verktyg
END:VEVENT
END:VCALENDAR
