BEGIN:VCALENDAR
VERSION:2.0
PRODID:-//NetAuktion//NONSGML NetAuktion//SV
METHOD:PUBLISH
BEGIN:VEVENT
UID:20260421T102855-1453655280-netauktion.se
DTSTAMP:20260421T102855
DTSTART:20110926T010900
DTEND:20110926T011200
SUMMARY:Netauktion objekt 0860-003 Auktionspåminnelse
DESCRIPTION:Länk till objektet du var intresserad av: https://staging.netauktion.se/auktion/produkt/11st-haften-rikskuponger-3
END:VEVENT
END:VCALENDAR
