BEGIN:VCALENDAR
VERSION:2.0
PRODID:-//NetAuktion//NONSGML NetAuktion//SV
METHOD:PUBLISH
BEGIN:VEVENT
UID:20260421T102745-643424107-netauktion.se
DTSTAMP:20260421T102745
DTSTART:20110926T010300
DTEND:20110926T010600
SUMMARY:Netauktion objekt 0798-006 Auktionspåminnelse
DESCRIPTION:Länk till objektet du var intresserad av: https://staging.netauktion.se/auktion/produkt/3st-fasettslipade-smaragder
END:VEVENT
END:VCALENDAR
