BEGIN:VCALENDAR
VERSION:2.0
PRODID:-//NetAuktion//NONSGML NetAuktion//SV
METHOD:PUBLISH
BEGIN:VEVENT
UID:20260421T104320-2002758994-netauktion.se
DTSTAMP:20260421T104320
DTSTART:20110920T012200
DTEND:20110920T012500
SUMMARY:Netauktion objekt 0830-025 Auktionspåminnelse
DESCRIPTION:Länk till objektet du var intresserad av: https://staging.netauktion.se/auktion/produkt/3st-par-tennisskor-i-nyskick-3
END:VEVENT
END:VCALENDAR
