BEGIN:VCALENDAR
VERSION:2.0
PRODID:-//NetAuktion//NONSGML NetAuktion//SV
METHOD:PUBLISH
BEGIN:VEVENT
UID:20260421T104359-298073996-netauktion.se
DTSTAMP:20260421T104359
DTSTART:20110920T012300
DTEND:20110920T012600
SUMMARY:Netauktion objekt 0830-026 Auktionspåminnelse
DESCRIPTION:Länk till objektet du var intresserad av: https://staging.netauktion.se/auktion/produkt/4st-par-tennisskor-i-nyskick-2
END:VEVENT
END:VCALENDAR
