BEGIN:VCALENDAR
VERSION:2.0
PRODID:-//NetAuktion//NONSGML NetAuktion//SV
METHOD:PUBLISH
BEGIN:VEVENT
UID:20260421T104359-1937446269-netauktion.se
DTSTAMP:20260421T104359
DTSTART:20110920T013000
DTEND:20110920T013300
SUMMARY:Netauktion objekt 0830-033 Auktionspåminnelse
DESCRIPTION:Länk till objektet du var intresserad av: https://staging.netauktion.se/auktion/produkt/diverse-herr-tennisklader-i-nyskick-storlek-s
END:VEVENT
END:VCALENDAR
