BEGIN:VCALENDAR
VERSION:2.0
PRODID:-//NetAuktion//NONSGML NetAuktion//SV
METHOD:PUBLISH
BEGIN:VEVENT
UID:20260421T102833-115925273-netauktion.se
DTSTAMP:20260421T102833
DTSTART:20110926T015900
DTEND:20110926T020200
SUMMARY:Netauktion objekt 0779-008 Auktionspåminnelse
DESCRIPTION:Länk till objektet du var intresserad av: https://staging.netauktion.se/auktion/produkt/reservdelstvatt-5
END:VEVENT
END:VCALENDAR
