BEGIN:VCALENDAR
VERSION:2.0
PRODID:-//NetAuktion//NONSGML NetAuktion//SV
METHOD:PUBLISH
BEGIN:VEVENT
UID:20260425T123557-1920301080-netauktion.se
DTSTAMP:20260425T123557
DTSTART:20110913T055700
DTEND:20110913T060000
SUMMARY:Netauktion objekt 0915-005 Auktionspåminnelse
DESCRIPTION:Länk till objektet du var intresserad av: https://staging.netauktion.se/auktion/produkt/filofaxpersonal-pocket-organizer-med-sexhalsmekanismen-2011-2012-10-st-4
END:VEVENT
END:VCALENDAR
