BEGIN:VCALENDAR
VERSION:2.0
PRODID:-//NetAuktion//NONSGML NetAuktion//SV
METHOD:PUBLISH
BEGIN:VEVENT
UID:20260421T104316-303553302-netauktion.se
DTSTAMP:20260421T104316
DTSTART:20110926T022500
DTEND:20110926T022800
SUMMARY:Netauktion objekt 0675-063 Auktionspåminnelse
DESCRIPTION:Länk till objektet du var intresserad av: https://staging.netauktion.se/auktion/produkt/familjespel-cirondo-6st-9
END:VEVENT
END:VCALENDAR
