BEGIN:VCALENDAR
VERSION:2.0
PRODID:-//NetAuktion//NONSGML NetAuktion//SV
METHOD:PUBLISH
BEGIN:VEVENT
UID:20260421T102743-1103265516-netauktion.se
DTSTAMP:20260421T102743
DTSTART:20110926T023100
DTEND:20110926T023400
SUMMARY:Netauktion objekt 0675-069 Auktionspåminnelse
DESCRIPTION:Länk till objektet du var intresserad av: https://staging.netauktion.se/auktion/produkt/familjespel-cirondo-6st-24
END:VEVENT
END:VCALENDAR
