BEGIN:VCALENDAR
VERSION:2.0
PRODID:-//NetAuktion//NONSGML NetAuktion//SV
METHOD:PUBLISH
BEGIN:VEVENT
UID:20260421T103006-1168574758-netauktion.se
DTSTAMP:20260421T103006
DTSTART:20111230T011800
DTEND:20111230T012100
SUMMARY:Netauktion objekt 0844-009 Auktionspåminnelse
DESCRIPTION:Länk till objektet du var intresserad av: https://staging.netauktion.se/auktion/produkt/motionscykel-wnq
END:VEVENT
END:VCALENDAR
