BEGIN:VCALENDAR
VERSION:2.0
PRODID:-//NetAuktion//NONSGML NetAuktion//SV
METHOD:PUBLISH
BEGIN:VEVENT
UID:20260421T104433-1079402393-netauktion.se
DTSTAMP:20260421T104433
DTSTART:20111230T011700
DTEND:20111230T012000
SUMMARY:Netauktion objekt 0844-019 Auktionspåminnelse
DESCRIPTION:Länk till objektet du var intresserad av: https://staging.netauktion.se/auktion/produkt/herrklader-strl-m-xxl
END:VEVENT
END:VCALENDAR
