BEGIN:VCALENDAR
VERSION:2.0
PRODID:-//NetAuktion//NONSGML NetAuktion//SV
METHOD:PUBLISH
BEGIN:VEVENT
UID:20260421T104430-1754848114-netauktion.se
DTSTAMP:20260421T104430
DTSTART:20111031T011800
DTEND:20111031T012100
SUMMARY:Netauktion objekt 0670-017 Auktionspåminnelse
DESCRIPTION:Länk till objektet du var intresserad av: https://staging.netauktion.se/auktion/produkt/ido-badkar
END:VEVENT
END:VCALENDAR
