BEGIN:VCALENDAR
VERSION:2.0
PRODID:-//NetAuktion//NONSGML NetAuktion//SV
METHOD:PUBLISH
BEGIN:VEVENT
UID:20260421T104439-591998645-netauktion.se
DTSTAMP:20260421T104439
DTSTART:20111031T013100
DTEND:20111031T013400
SUMMARY:Netauktion objekt 0670-020 Auktionspåminnelse
DESCRIPTION:Länk till objektet du var intresserad av: https://staging.netauktion.se/auktion/produkt/parti-krympslang
END:VEVENT
END:VCALENDAR
