BEGIN:VCALENDAR
VERSION:2.0
PRODID:-//NetAuktion//NONSGML NetAuktion//SV
METHOD:PUBLISH
BEGIN:VEVENT
UID:20260421T104535-1265057466-netauktion.se
DTSTAMP:20260421T104535
DTSTART:20111130T011100
DTEND:20111130T011400
SUMMARY:Netauktion objekt 0971-027 Auktionspåminnelse
DESCRIPTION:Länk till objektet du var intresserad av: https://staging.netauktion.se/auktion/produkt/hanglas-fran-abus-nytt-1-3
END:VEVENT
END:VCALENDAR
