BEGIN:VCALENDAR
VERSION:2.0
PRODID:-//NetAuktion//NONSGML NetAuktion//SV
METHOD:PUBLISH
BEGIN:VEVENT
UID:20260421T102839-493348651-netauktion.se
DTSTAMP:20260421T102839
DTSTART:20111031T012500
DTEND:20111031T012800
SUMMARY:Netauktion objekt 0670-021 Auktionspåminnelse
DESCRIPTION:Länk till objektet du var intresserad av: https://staging.netauktion.se/auktion/produkt/parti-teknik-4
END:VEVENT
END:VCALENDAR
