BEGIN:VCALENDAR
VERSION:2.0
PRODID:-//NetAuktion//NONSGML NetAuktion//SV
METHOD:PUBLISH
BEGIN:VEVENT
UID:20260421T104358-1627111008-netauktion.se
DTSTAMP:20260421T104358
DTSTART:20111031T011600
DTEND:20111031T011900
SUMMARY:Netauktion objekt 0670-031 Auktionspåminnelse
DESCRIPTION:Länk till objektet du var intresserad av: https://staging.netauktion.se/auktion/produkt/parti-sallskapsspel
END:VEVENT
END:VCALENDAR
